BEGIN:VCALENDAR
VERSION:2.0
PRODID:-//Von Wegen Lisbeth - ECPv6.15.20//NONSGML v1.0//EN
CALSCALE:GREGORIAN
METHOD:PUBLISH
X-ORIGINAL-URL:https://vonwegenlisbeth.de
X-WR-CALDESC:Veranstaltungen für Von Wegen Lisbeth
REFRESH-INTERVAL;VALUE=DURATION:PT1H
X-Robots-Tag:noindex
X-PUBLISHED-TTL:PT1H
BEGIN:VTIMEZONE
TZID:UTC
BEGIN:STANDARD
TZOFFSETFROM:+0000
TZOFFSETTO:+0000
TZNAME:UTC
DTSTART:20240101T000000
END:STANDARD
END:VTIMEZONE
BEGIN:VEVENT
DTSTART;VALUE=DATE:20251010
DTEND;VALUE=DATE:20251011
DTSTAMP:20260421T211910
CREATED:20250901T102137Z
LAST-MODIFIED:20250925T184726Z
UID:1597-1760054400-1760140799@vonwegenlisbeth.de
SUMMARY:Hamburg
DESCRIPTION:
URL:https://vonwegenlisbeth.de/event/hamburg/
LOCATION:Inselpark Arena
CATEGORIES:SUPERCOLOR TOUR 2025,SUPPORT: Laura Lee & The Jettes
END:VEVENT
END:VCALENDAR