BEGIN:VCALENDAR
VERSION:2.0
PRODID:-//Von Wegen Lisbeth - ECPv6.15.20//NONSGML v1.0//EN
CALSCALE:GREGORIAN
METHOD:PUBLISH
X-ORIGINAL-URL:https://vonwegenlisbeth.de
X-WR-CALDESC:Veranstaltungen für Von Wegen Lisbeth
REFRESH-INTERVAL;VALUE=DURATION:PT1H
X-Robots-Tag:noindex
X-PUBLISHED-TTL:PT1H
BEGIN:VTIMEZONE
TZID:UTC
BEGIN:STANDARD
TZOFFSETFROM:+0000
TZOFFSETTO:+0000
TZNAME:UTC
DTSTART:20240101T000000
END:STANDARD
END:VTIMEZONE
BEGIN:VEVENT
DTSTART;VALUE=DATE:20251024
DTEND;VALUE=DATE:20251025
DTSTAMP:20260421T211907
CREATED:20250902T130208Z
LAST-MODIFIED:20250925T185342Z
UID:2219-1761264000-1761350399@vonwegenlisbeth.de
SUMMARY:Nürnberg
DESCRIPTION:
URL:https://vonwegenlisbeth.de/event/nuernberg/
LOCATION:Löwensaal
CATEGORIES:SUPERCOLOR TOUR 2025,SUPPORT: Panda Lux
END:VEVENT
END:VCALENDAR