BEGIN:VCALENDAR
VERSION:2.0
PRODID:-//Von Wegen Lisbeth - ECPv6.15.20//NONSGML v1.0//EN
CALSCALE:GREGORIAN
METHOD:PUBLISH
X-WR-CALNAME:Von Wegen Lisbeth
X-ORIGINAL-URL:https://vonwegenlisbeth.de
X-WR-CALDESC:Veranstaltungen für Von Wegen Lisbeth
REFRESH-INTERVAL;VALUE=DURATION:PT1H
X-Robots-Tag:noindex
X-PUBLISHED-TTL:PT1H
BEGIN:VTIMEZONE
TZID:UTC
BEGIN:STANDARD
TZOFFSETFROM:+0000
TZOFFSETTO:+0000
TZNAME:UTC
DTSTART:20240101T000000
END:STANDARD
END:VTIMEZONE
BEGIN:VEVENT
DTSTART;VALUE=DATE:20251115
DTEND;VALUE=DATE:20251116
DTSTAMP:20260421T112339
CREATED:20250902T131735Z
LAST-MODIFIED:20250925T185202Z
UID:2268-1763164800-1763251199@vonwegenlisbeth.de
SUMMARY:Berlin
DESCRIPTION:
URL:https://vonwegenlisbeth.de/event/berlin/
LOCATION:Columbiahalle\, Berlin
CATEGORIES:SUPERCOLOR TOUR 2025,SUPPORT: Kapa Tult
END:VEVENT
BEGIN:VEVENT
DTSTART;VALUE=DATE:20251114
DTEND;VALUE=DATE:20251115
DTSTAMP:20260421T112339
CREATED:20250902T124312Z
LAST-MODIFIED:20250925T185210Z
UID:2183-1763078400-1763164799@vonwegenlisbeth.de
SUMMARY:Berlin
DESCRIPTION:
URL:https://vonwegenlisbeth.de/event/berlin14/
LOCATION:Columbiahalle\, Berlin
CATEGORIES:SUPERCOLOR TOUR 2025,SUPPORT: Dilla
END:VEVENT
BEGIN:VEVENT
DTSTART;VALUE=DATE:20251113
DTEND;VALUE=DATE:20251114
DTSTAMP:20260421T112339
CREATED:20250902T122854Z
LAST-MODIFIED:20250925T185218Z
UID:2176-1762992000-1763078399@vonwegenlisbeth.de
SUMMARY:Berlin
DESCRIPTION:
URL:https://vonwegenlisbeth.de/event/berlin13/
LOCATION:Columbiahalle\, Berlin
CATEGORIES:SUPERCOLOR TOUR 2025,SUPPORT: Dilla
END:VEVENT
BEGIN:VEVENT
DTSTART;VALUE=DATE:20251109
DTEND;VALUE=DATE:20251110
DTSTAMP:20260421T112339
CREATED:20250902T131230Z
LAST-MODIFIED:20251104T094408Z
UID:2260-1762646400-1762732799@vonwegenlisbeth.de
SUMMARY:Bremen
DESCRIPTION:
URL:https://vonwegenlisbeth.de/event/bremen/
LOCATION:Modernes
CATEGORIES:SUPERCOLOR TOUR 2025,SUPPORT: Brockhoff
END:VEVENT
BEGIN:VEVENT
DTSTART;VALUE=DATE:20251108
DTEND;VALUE=DATE:20251109
DTSTAMP:20260421T112339
CREATED:20250902T131150Z
LAST-MODIFIED:20250925T185230Z
UID:2256-1762560000-1762646399@vonwegenlisbeth.de
SUMMARY:Leer
DESCRIPTION:
URL:https://vonwegenlisbeth.de/event/leer/
LOCATION:Zollhaus
CATEGORIES:SUPERCOLOR TOUR 2025,SUPPORT: Brockhoff
END:VEVENT
BEGIN:VEVENT
DTSTART;VALUE=DATE:20251107
DTEND;VALUE=DATE:20251108
DTSTAMP:20260421T112339
CREATED:20250902T131112Z
LAST-MODIFIED:20251104T094536Z
UID:2252-1762473600-1762559999@vonwegenlisbeth.de
SUMMARY:Oberhausen
DESCRIPTION:
URL:https://vonwegenlisbeth.de/event/oberhausen/
LOCATION:Turbinenhalle 2
CATEGORIES:SUPERCOLOR TOUR 2025,SUPPORT: Brockhoff
END:VEVENT
BEGIN:VEVENT
DTSTART;VALUE=DATE:20251105
DTEND;VALUE=DATE:20251106
DTSTAMP:20260421T112339
CREATED:20250902T130948Z
LAST-MODIFIED:20250925T185245Z
UID:2245-1762300800-1762387199@vonwegenlisbeth.de
SUMMARY:München
DESCRIPTION:
URL:https://vonwegenlisbeth.de/event/muenchen-2/
LOCATION:Backstage
CATEGORIES:SUPERCOLOR TOUR 2025,SUPPORT: Remote Bondage
END:VEVENT
BEGIN:VEVENT
DTSTART;VALUE=DATE:20251104
DTEND;VALUE=DATE:20251105
DTSTAMP:20260421T112339
CREATED:20250902T130919Z
LAST-MODIFIED:20250925T185252Z
UID:2241-1762214400-1762300799@vonwegenlisbeth.de
SUMMARY:München
DESCRIPTION:
URL:https://vonwegenlisbeth.de/event/muenchen/
LOCATION:Backstage
CATEGORIES:SUPERCOLOR TOUR 2025,SUPPORT: Remote Bondage
END:VEVENT
BEGIN:VEVENT
DTSTART;TZID=UTC:20251102T080000
DTEND;TZID=UTC:20251102T170000
DTSTAMP:20260421T112339
CREATED:20250902T130541Z
LAST-MODIFIED:20250925T185259Z
UID:2234-1762070400-1762102800@vonwegenlisbeth.de
SUMMARY:Heidelberg
DESCRIPTION:
URL:https://vonwegenlisbeth.de/event/heidelberg/
LOCATION:halle02
CATEGORIES:SUPERCOLOR TOUR 2025,SUPPORT: Remote Bondage
END:VEVENT
BEGIN:VEVENT
DTSTART;VALUE=DATE:20251101
DTEND;VALUE=DATE:20251102
DTSTAMP:20260421T112339
CREATED:20250902T130500Z
LAST-MODIFIED:20250925T185305Z
UID:2231-1761955200-1762041599@vonwegenlisbeth.de
SUMMARY:Köln
DESCRIPTION:
URL:https://vonwegenlisbeth.de/event/koeln/
LOCATION:Palladium
CATEGORIES:SUPERCOLOR TOUR 2025,SUPPORT: Remote Bondage
END:VEVENT
BEGIN:VEVENT
DTSTART;VALUE=DATE:20251031
DTEND;VALUE=DATE:20251101
DTSTAMP:20260421T112339
CREATED:20250902T130419Z
LAST-MODIFIED:20250925T185312Z
UID:2228-1761868800-1761955199@vonwegenlisbeth.de
SUMMARY:Münster
DESCRIPTION:
URL:https://vonwegenlisbeth.de/event/muenster/
LOCATION:Skaters Palace
CATEGORIES:SUPERCOLOR TOUR 2025,SUPPORT: Remote Bondage
END:VEVENT
BEGIN:VEVENT
DTSTART;VALUE=DATE:20251030
DTEND;VALUE=DATE:20251031
DTSTAMP:20260421T112339
CREATED:20250902T130330Z
LAST-MODIFIED:20250925T185320Z
UID:2225-1761782400-1761868799@vonwegenlisbeth.de
SUMMARY:Leipzig
DESCRIPTION:
URL:https://vonwegenlisbeth.de/event/leipzig/
LOCATION:Felsenkeller
CATEGORIES:SUPERCOLOR TOUR 2025,SUPPORT: Remote Bondage
END:VEVENT
BEGIN:VEVENT
DTSTART;VALUE=DATE:20251025
DTEND;VALUE=DATE:20251026
DTSTAMP:20260421T112339
CREATED:20250902T130252Z
LAST-MODIFIED:20250925T185334Z
UID:2222-1761350400-1761436799@vonwegenlisbeth.de
SUMMARY:Dresden
DESCRIPTION:
URL:https://vonwegenlisbeth.de/event/dresden/
LOCATION:Stromwerk
CATEGORIES:SUPERCOLOR TOUR 2025,SUPPORT: Panda Lux
END:VEVENT
BEGIN:VEVENT
DTSTART;VALUE=DATE:20251024
DTEND;VALUE=DATE:20251025
DTSTAMP:20260421T112339
CREATED:20250902T130208Z
LAST-MODIFIED:20250925T185342Z
UID:2219-1761264000-1761350399@vonwegenlisbeth.de
SUMMARY:Nürnberg
DESCRIPTION:
URL:https://vonwegenlisbeth.de/event/nuernberg/
LOCATION:Löwensaal
CATEGORIES:SUPERCOLOR TOUR 2025,SUPPORT: Panda Lux
END:VEVENT
BEGIN:VEVENT
DTSTART;VALUE=DATE:20251023
DTEND;VALUE=DATE:20251024
DTSTAMP:20260421T112339
CREATED:20250902T130057Z
LAST-MODIFIED:20250925T185348Z
UID:2216-1761177600-1761263999@vonwegenlisbeth.de
SUMMARY:Zürich (CH)
DESCRIPTION:
URL:https://vonwegenlisbeth.de/event/zuerich-ch/
LOCATION:X-Tra
CATEGORIES:SUPERCOLOR TOUR 2025,SUPPORT: Panda Lux
END:VEVENT
BEGIN:VEVENT
DTSTART;VALUE=DATE:20251022
DTEND;VALUE=DATE:20251023
DTSTAMP:20260421T112339
CREATED:20250902T125709Z
LAST-MODIFIED:20250925T185356Z
UID:2207-1761091200-1761177599@vonwegenlisbeth.de
SUMMARY:Bern (CH)
DESCRIPTION:
URL:https://vonwegenlisbeth.de/event/bern-ch/
LOCATION:Bierhübeli
CATEGORIES:SUPERCOLOR TOUR 2025,SUPPORT: Panda Lux
END:VEVENT
BEGIN:VEVENT
DTSTART;VALUE=DATE:20251020
DTEND;VALUE=DATE:20251021
DTSTAMP:20260421T112339
CREATED:20250902T125559Z
LAST-MODIFIED:20251008T084541Z
UID:2204-1760918400-1761004799@vonwegenlisbeth.de
SUMMARY:Stuttgart
DESCRIPTION:
URL:https://vonwegenlisbeth.de/event/stuttgart/
LOCATION:Im Wizemann
CATEGORIES:SUPERCOLOR TOUR 2025,SUPPORT: Panda Lux
END:VEVENT
BEGIN:VEVENT
DTSTART;VALUE=DATE:20251018
DTEND;VALUE=DATE:20251019
DTSTAMP:20260421T112339
CREATED:20250902T125523Z
LAST-MODIFIED:20251006T142119Z
UID:2201-1760745600-1760831999@vonwegenlisbeth.de
SUMMARY:Wiesbaden
DESCRIPTION:
URL:https://vonwegenlisbeth.de/event/wiesbaden/
LOCATION:Schlachthof
CATEGORIES:SUPERCOLOR TOUR 2025,SUPPORT: Sofie Royer
END:VEVENT
BEGIN:VEVENT
DTSTART;VALUE=DATE:20251017
DTEND;VALUE=DATE:20251018
DTSTAMP:20260421T112339
CREATED:20250902T125437Z
LAST-MODIFIED:20250925T184852Z
UID:2195-1760659200-1760745599@vonwegenlisbeth.de
SUMMARY:Würzburg
DESCRIPTION:
URL:https://vonwegenlisbeth.de/event/wuerzburg/
LOCATION:Posthalle
CATEGORIES:SUPERCOLOR TOUR 2025,SUPPORT: Sofie Royer
END:VEVENT
BEGIN:VEVENT
DTSTART;VALUE=DATE:20251016
DTEND;VALUE=DATE:20251017
DTSTAMP:20260421T112339
CREATED:20250902T125255Z
LAST-MODIFIED:20250925T185620Z
UID:2191-1760572800-1760659199@vonwegenlisbeth.de
SUMMARY:Graz (AT)
DESCRIPTION:
URL:https://vonwegenlisbeth.de/event/graz-at/
LOCATION:Orpheum
CATEGORIES:SUPERCOLOR TOUR 2025,SUPPORT: Sofie Royer
END:VEVENT
BEGIN:VEVENT
DTSTART;VALUE=DATE:20251015
DTEND;VALUE=DATE:20251016
DTSTAMP:20260421T112339
CREATED:20250902T125205Z
LAST-MODIFIED:20250925T184801Z
UID:2189-1760486400-1760572799@vonwegenlisbeth.de
SUMMARY:Wien (AT)
DESCRIPTION:
URL:https://vonwegenlisbeth.de/event/wien-at-2/
LOCATION:Arena\, Austria
CATEGORIES:SUPERCOLOR TOUR 2025,SUPPORT: Sofie Royer
END:VEVENT
BEGIN:VEVENT
DTSTART;VALUE=DATE:20251014
DTEND;VALUE=DATE:20251015
DTSTAMP:20260421T112339
CREATED:20250901T102422Z
LAST-MODIFIED:20250925T184748Z
UID:1604-1760400000-1760486399@vonwegenlisbeth.de
SUMMARY:Wien (AT)
DESCRIPTION:
URL:https://vonwegenlisbeth.de/event/wien-at/
LOCATION:Arena\, Austria
CATEGORIES:SUPERCOLOR TOUR 2025,SUPPORT: Sofie Royer
END:VEVENT
BEGIN:VEVENT
DTSTART;VALUE=DATE:20251011
DTEND;VALUE=DATE:20251012
DTSTAMP:20260421T112339
CREATED:20250901T102253Z
LAST-MODIFIED:20250930T173334Z
UID:1600-1760140800-1760227199@vonwegenlisbeth.de
SUMMARY:Osnabrück
DESCRIPTION:
URL:https://vonwegenlisbeth.de/event/osnabrueck/
LOCATION:Botschaft\, Germany
CATEGORIES:SUPERCOLOR TOUR 2025,SUPPORT: Laura Lee & The Jettes
END:VEVENT
BEGIN:VEVENT
DTSTART;VALUE=DATE:20251010
DTEND;VALUE=DATE:20251011
DTSTAMP:20260421T112339
CREATED:20250901T102137Z
LAST-MODIFIED:20250925T184726Z
UID:1597-1760054400-1760140799@vonwegenlisbeth.de
SUMMARY:Hamburg
DESCRIPTION:
URL:https://vonwegenlisbeth.de/event/hamburg/
LOCATION:Inselpark Arena
CATEGORIES:SUPERCOLOR TOUR 2025,SUPPORT: Laura Lee & The Jettes
END:VEVENT
BEGIN:VEVENT
DTSTART;VALUE=DATE:20251009
DTEND;VALUE=DATE:20251010
DTSTAMP:20260421T112339
CREATED:20250901T102001Z
LAST-MODIFIED:20250930T173442Z
UID:1595-1759968000-1760054399@vonwegenlisbeth.de
SUMMARY:Rostock
DESCRIPTION:
URL:https://vonwegenlisbeth.de/event/rostock/
LOCATION:M.A.U.
CATEGORIES:SUPERCOLOR TOUR 2025,SUPPORT: Laura Lee & The Jettes
END:VEVENT
BEGIN:VEVENT
DTSTART;VALUE=DATE:20251008
DTEND;VALUE=DATE:20251009
DTSTAMP:20260421T112339
CREATED:20250901T101454Z
LAST-MODIFIED:20250925T184524Z
UID:1591-1759881600-1759967999@vonwegenlisbeth.de
SUMMARY:Hannover
DESCRIPTION:
URL:https://vonwegenlisbeth.de/event/hannover/
LOCATION:Capitol
CATEGORIES:SUPERCOLOR TOUR 2025,SUPPORT: Laura Lee & The Jettes
END:VEVENT
END:VCALENDAR