BEGIN:VCALENDAR
VERSION:2.0
PRODID:-//Von Wegen Lisbeth - ECPv6.15.20//NONSGML v1.0//EN
CALSCALE:GREGORIAN
METHOD:PUBLISH
X-ORIGINAL-URL:https://vonwegenlisbeth.de
X-WR-CALDESC:Veranstaltungen für Von Wegen Lisbeth
REFRESH-INTERVAL;VALUE=DURATION:PT1H
X-Robots-Tag:noindex
X-PUBLISHED-TTL:PT1H
BEGIN:VTIMEZONE
TZID:Europe/Helsinki
BEGIN:DAYLIGHT
TZOFFSETFROM:+0200
TZOFFSETTO:+0300
TZNAME:EEST
DTSTART:20250330T010000
END:DAYLIGHT
BEGIN:STANDARD
TZOFFSETFROM:+0300
TZOFFSETTO:+0200
TZNAME:EET
DTSTART:20251026T010000
END:STANDARD
BEGIN:DAYLIGHT
TZOFFSETFROM:+0200
TZOFFSETTO:+0300
TZNAME:EEST
DTSTART:20260329T010000
END:DAYLIGHT
BEGIN:STANDARD
TZOFFSETFROM:+0300
TZOFFSETTO:+0200
TZNAME:EET
DTSTART:20261025T010000
END:STANDARD
BEGIN:DAYLIGHT
TZOFFSETFROM:+0200
TZOFFSETTO:+0300
TZNAME:EEST
DTSTART:20270328T010000
END:DAYLIGHT
BEGIN:STANDARD
TZOFFSETFROM:+0300
TZOFFSETTO:+0200
TZNAME:EET
DTSTART:20271031T010000
END:STANDARD
END:VTIMEZONE
BEGIN:VEVENT
DTSTART;VALUE=DATE:20260625
DTEND;VALUE=DATE:20260628
DTSTAMP:20260421T124054
CREATED:20251130T123235Z
LAST-MODIFIED:20251203T105259Z
UID:3237-1782345600-1782604799@vonwegenlisbeth.de
SUMMARY:Ab geht die Lutzi! Festival
DESCRIPTION:
URL:https://vonwegenlisbeth.de/event/ab-geht-die-lutzi-festival/
LOCATION:Rottershausen
CATEGORIES:Festival
END:VEVENT
BEGIN:VEVENT
DTSTART;VALUE=DATE:20260626
DTEND;VALUE=DATE:20260627
DTSTAMP:20260421T124054
CREATED:20251020T233349Z
LAST-MODIFIED:20251020T233447Z
UID:3150-1782432000-1782518399@vonwegenlisbeth.de
SUMMARY:Tübingen
DESCRIPTION:
URL:https://vonwegenlisbeth.de/event/tuebingen/
LOCATION:Panzerhalle – Brass & Pop Festival
CATEGORIES:Strandbad Eldena - Sommertour 2026
END:VEVENT
BEGIN:VEVENT
DTSTART;VALUE=DATE:20260627
DTEND;VALUE=DATE:20260628
DTSTAMP:20260421T124054
CREATED:20251117T105157Z
LAST-MODIFIED:20251117T105356Z
UID:3210-1782518400-1782604799@vonwegenlisbeth.de
SUMMARY:Karlsruhe
DESCRIPTION:
URL:https://vonwegenlisbeth.de/event/karlsruhe/
LOCATION:Zeltival
CATEGORIES:Strandbad Eldena - Sommertour 2026
END:VEVENT
BEGIN:VEVENT
DTSTART;VALUE=DATE:20260628
DTEND;VALUE=DATE:20260629
DTSTAMP:20260421T124054
CREATED:20251117T105335Z
LAST-MODIFIED:20251117T105335Z
UID:3214-1782604800-1782691199@vonwegenlisbeth.de
SUMMARY:Dachau
DESCRIPTION:
URL:https://vonwegenlisbeth.de/event/dachau/
LOCATION:Dachauer Musiksommer
CATEGORIES:Strandbad Eldena - Sommertour 2026
END:VEVENT
END:VCALENDAR