BEGIN:VCALENDAR
VERSION:2.0
PRODID:-//Von Wegen Lisbeth - ECPv6.15.20//NONSGML v1.0//EN
CALSCALE:GREGORIAN
METHOD:PUBLISH
X-ORIGINAL-URL:https://vonwegenlisbeth.de
X-WR-CALDESC:Veranstaltungen für Von Wegen Lisbeth
REFRESH-INTERVAL;VALUE=DURATION:PT1H
X-Robots-Tag:noindex
X-PUBLISHED-TTL:PT1H
BEGIN:VTIMEZONE
TZID:Europe/Helsinki
BEGIN:DAYLIGHT
TZOFFSETFROM:+0200
TZOFFSETTO:+0300
TZNAME:EEST
DTSTART:20250330T010000
END:DAYLIGHT
BEGIN:STANDARD
TZOFFSETFROM:+0300
TZOFFSETTO:+0200
TZNAME:EET
DTSTART:20251026T010000
END:STANDARD
BEGIN:DAYLIGHT
TZOFFSETFROM:+0200
TZOFFSETTO:+0300
TZNAME:EEST
DTSTART:20260329T010000
END:DAYLIGHT
BEGIN:STANDARD
TZOFFSETFROM:+0300
TZOFFSETTO:+0200
TZNAME:EET
DTSTART:20261025T010000
END:STANDARD
BEGIN:DAYLIGHT
TZOFFSETFROM:+0200
TZOFFSETTO:+0300
TZNAME:EEST
DTSTART:20270328T010000
END:DAYLIGHT
BEGIN:STANDARD
TZOFFSETFROM:+0300
TZOFFSETTO:+0200
TZNAME:EET
DTSTART:20271031T010000
END:STANDARD
END:VTIMEZONE
BEGIN:VEVENT
DTSTART;VALUE=DATE:20260813
DTEND;VALUE=DATE:20260814
DTSTAMP:20260421T153418
CREATED:20260205T080014Z
LAST-MODIFIED:20260304T093734Z
UID:3290-1786579200-1786665599@vonwegenlisbeth.de
SUMMARY:Jena
DESCRIPTION:
URL:https://vonwegenlisbeth.de/event/jena/
LOCATION:Kulturarena
CATEGORIES:Strandbad Eldena - Sommertour 2026
END:VEVENT
BEGIN:VEVENT
DTSTART;VALUE=DATE:20260814
DTEND;VALUE=DATE:20260816
DTSTAMP:20260421T153418
CREATED:20260203T143007Z
LAST-MODIFIED:20260203T143007Z
UID:3284-1786665600-1786838399@vonwegenlisbeth.de
SUMMARY:MS Dockville
DESCRIPTION:
URL:https://vonwegenlisbeth.de/event/ms-dockville/
LOCATION:Hamburg
CATEGORIES:Festival
END:VEVENT
BEGIN:VEVENT
DTSTART;VALUE=DATE:20260820
DTEND;VALUE=DATE:20260821
DTSTAMP:20260421T153418
CREATED:20260204T100038Z
LAST-MODIFIED:20260203T143555Z
UID:3287-1787184000-1787270399@vonwegenlisbeth.de
SUMMARY:Darmstadt
DESCRIPTION:
URL:https://vonwegenlisbeth.de/event/darmstadt/
LOCATION:Merck Sommerperlen
CATEGORIES:Strandbad Eldena - Sommertour 2026
END:VEVENT
BEGIN:VEVENT
DTSTART;VALUE=DATE:20260821
DTEND;VALUE=DATE:20260822
DTSTAMP:20260421T153418
CREATED:20251117T113919Z
LAST-MODIFIED:20251117T113919Z
UID:3225-1787270400-1787356799@vonwegenlisbeth.de
SUMMARY:Fulda
DESCRIPTION:
URL:https://vonwegenlisbeth.de/event/fulda/
LOCATION:Museumshof
CATEGORIES:Strandbad Eldena - Sommertour 2026
END:VEVENT
BEGIN:VEVENT
DTSTART;VALUE=DATE:20260821
DTEND;VALUE=DATE:20260823
DTSTAMP:20260421T153418
CREATED:20251202T163232Z
LAST-MODIFIED:20251203T105225Z
UID:3254-1787270400-1787443199@vonwegenlisbeth.de
SUMMARY:Kleinstadtfestival
DESCRIPTION:
URL:https://vonwegenlisbeth.de/event/kleinstadtfestival/
LOCATION:Meppen
CATEGORIES:Festival
END:VEVENT
BEGIN:VEVENT
DTSTART;VALUE=DATE:20260903
DTEND;VALUE=DATE:20260904
DTSTAMP:20260421T153418
CREATED:20251018T111212Z
LAST-MODIFIED:20251018T111456Z
UID:3140-1788393600-1788479999@vonwegenlisbeth.de
SUMMARY:Wien
DESCRIPTION:
URL:https://vonwegenlisbeth.de/event/wien-arena-open-air/
LOCATION:Arena Open Air
CATEGORIES:Strandbad Eldena - Sommertour 2026
END:VEVENT
BEGIN:VEVENT
DTSTART;VALUE=DATE:20260903
DTEND;VALUE=DATE:20260906
DTSTAMP:20260421T153418
CREATED:20251203T105113Z
LAST-MODIFIED:20251203T105113Z
UID:3263-1788393600-1788652799@vonwegenlisbeth.de
SUMMARY:Allgäu Finest Festival
DESCRIPTION:
URL:https://vonwegenlisbeth.de/event/allgaeu-finest-festival/
LOCATION:Wangen
CATEGORIES:Festival
END:VEVENT
BEGIN:VEVENT
DTSTART;VALUE=DATE:20260904
DTEND;VALUE=DATE:20260906
DTSTAMP:20260421T153418
CREATED:20251104T102136Z
LAST-MODIFIED:20251104T102136Z
UID:3171-1788480000-1788652799@vonwegenlisbeth.de
SUMMARY:Jetzt & Immer Festival
DESCRIPTION:
URL:https://vonwegenlisbeth.de/event/jetzt-immer-festival/
LOCATION:Ratingen
CATEGORIES:Festival
END:VEVENT
BEGIN:VEVENT
DTSTART;VALUE=DATE:20260906
DTEND;VALUE=DATE:20260907
DTSTAMP:20260421T153418
CREATED:20251117T105530Z
LAST-MODIFIED:20251117T105530Z
UID:3220-1788652800-1788739199@vonwegenlisbeth.de
SUMMARY:Saarbrücken
DESCRIPTION:
URL:https://vonwegenlisbeth.de/event/saarbruecken/
LOCATION:Garage
CATEGORIES:Strandbad Eldena - Sommertour 2026
END:VEVENT
END:VCALENDAR